BEGIN:VCALENDAR
VERSION:2.0
PRODID:-//pretix//pretix.eu//
BEGIN:VTIMEZONE
TZID:Europe/Berlin
BEGIN:STANDARD
DTSTART:20001029T040000
RRULE:FREQ=YEARLY;BYDAY=-1SU;BYMONTH=10
TZNAME:CET
TZOFFSETFROM:+0200
TZOFFSETTO:+0100
END:STANDARD
BEGIN:DAYLIGHT
DTSTART:20000326T030000
RRULE:FREQ=YEARLY;BYDAY=-1SU;BYMONTH=3
TZNAME:CEST
TZOFFSETFROM:+0100
TZOFFSETTO:+0200
END:DAYLIGHT
END:VTIMEZONE
BEGIN:VEVENT
UID:pretix-ribnitzer-hv-tickets-4916376@ribnitzer-hv.vereinsticket.de
DTSTART;TZID=Europe/Berlin:20260418T143000
DTEND;TZID=Europe/Berlin:20260418T203000
DESCRIPTION:Tickets: https://ribnitzer-hv.vereinsticket.de/tickets/4916376/
 \nVeranstalter: Ribnitzer Handballverein e.V.
DTSTAMP:20260425T111033Z
LOCATION:Ribnitz Markt\, Lange Straße\, 18311 Ribnitz-Damgarten
SUMMARY:Busfahrt Güstrow exkl. Eintritt
END:VEVENT
END:VCALENDAR
