BEGIN:VCALENDAR
VERSION:2.0
PRODID:-//pretix//pretix.eu//
BEGIN:VTIMEZONE
TZID:Europe/Berlin
BEGIN:STANDARD
DTSTART:20001029T040000
RRULE:FREQ=YEARLY;BYDAY=-1SU;BYMONTH=10
TZNAME:CET
TZOFFSETFROM:+0200
TZOFFSETTO:+0100
END:STANDARD
BEGIN:DAYLIGHT
DTSTART:20000326T030000
RRULE:FREQ=YEARLY;BYDAY=-1SU;BYMONTH=3
TZNAME:CEST
TZOFFSETFROM:+0100
TZOFFSETTO:+0200
END:DAYLIGHT
END:VTIMEZONE
BEGIN:VEVENT
UID:pretix-ribnitzer-hv-tickets-4665284@ribnitzer-hv.vereinsticket.de
DTSTART;TZID=Europe/Berlin:20251123T160000
DTEND;TZID=Europe/Berlin:20251123T180000
DESCRIPTION:Tickets: https://ribnitzer-hv.vereinsticket.de/tickets/4665284/
 \nEinlass: 23.11.2025 14:30\nVeranstalter: Ribnitzer Handballverein e.V.
DTSTAMP:20260425T182411Z
LOCATION:Sporthalle am Mühlenberg\, Mühlenberg 4\, 18311 Ribnitz-Damgarten
SUMMARY:23.11.25 - Bad Doberaner SV 90
END:VEVENT
END:VCALENDAR
